BEGIN:VCALENDAR
VERSION:2.0
PRODID:-//Digitalsilverimaging - ECPv6.15.20//NONSGML v1.0//EN
CALSCALE:GREGORIAN
METHOD:PUBLISH
X-ORIGINAL-URL:https://digitalsilverimaging.com
X-WR-CALDESC:Events for Digitalsilverimaging
REFRESH-INTERVAL;VALUE=DURATION:PT1H
X-Robots-Tag:noindex
X-PUBLISHED-TTL:PT1H
BEGIN:VTIMEZONE
TZID:America/New_York
BEGIN:DAYLIGHT
TZOFFSETFROM:-0500
TZOFFSETTO:-0400
TZNAME:EDT
DTSTART:20220313T070000
END:DAYLIGHT
BEGIN:STANDARD
TZOFFSETFROM:-0400
TZOFFSETTO:-0500
TZNAME:EST
DTSTART:20221106T060000
END:STANDARD
BEGIN:DAYLIGHT
TZOFFSETFROM:-0500
TZOFFSETTO:-0400
TZNAME:EDT
DTSTART:20230312T070000
END:DAYLIGHT
BEGIN:STANDARD
TZOFFSETFROM:-0400
TZOFFSETTO:-0500
TZNAME:EST
DTSTART:20231105T060000
END:STANDARD
BEGIN:DAYLIGHT
TZOFFSETFROM:-0500
TZOFFSETTO:-0400
TZNAME:EDT
DTSTART:20240310T070000
END:DAYLIGHT
BEGIN:STANDARD
TZOFFSETFROM:-0400
TZOFFSETTO:-0500
TZNAME:EST
DTSTART:20241103T060000
END:STANDARD
END:VTIMEZONE
BEGIN:VEVENT
DTSTART;TZID=America/New_York:20230308T190000
DTEND;TZID=America/New_York:20230308T193000
DTSTAMP:20260422T005748
CREATED:20230127T205552Z
LAST-MODIFIED:20230127T205552Z
UID:8917-1678302000-1678303800@digitalsilverimaging.com
SUMMARY:Alternative Presentation Methods with Digital Silver Imaging
DESCRIPTION:  \nFree Virtual Seminar (Zoom): Alternative Presentation Methods with Digital Silver Imaging\nWednesday\, March 8\, 2023 \n7–9pm EST\, 5 – 7 pm\, MST \nPlease register below \nSponsored by Digital Silver Imaging in collaboration with the Colorado Photographic Arts Center. A matted and framed print isn’t always the only option. In this free\, virtual show-and-tell presentation\, Eric Luden will discuss the finer points of finishing a print for exhibition and display. Questions pertaining to archival stability\, durability\, and cost will be addressed along with aesthetic consideration. Finishing is often the most expensive part of making a print\, this webinar will help you make the right finishing decision and give you some budget friendly alternatives. \nTopics will include: \n\nMounting substrates explored – Foam core\, Gator\, Dibond\, Aluminum\nProtective coatings – types of coatings and purposes\nLamination – when and how to use this option\nFraming alternatives\nQuestion and answer\n\nRegister 
URL:https://digitalsilverimaging.com/dsi-event/alternative-presentation-methods-with-digital-silver-imaging/
CATEGORIES:Partners,Webinar
ATTACH;FMTTYPE=image/png:https://digitalsilverimaging.com/wp-content/uploads/2023/01/Screen-Shot-2023-01-27-at-1.47.58-PM.png
END:VEVENT
END:VCALENDAR