BEGIN:VCALENDAR
VERSION:2.0
PRODID:-//Digitalsilverimaging - ECPv6.15.20//NONSGML v1.0//EN
CALSCALE:GREGORIAN
METHOD:PUBLISH
X-ORIGINAL-URL:https://digitalsilverimaging.com
X-WR-CALDESC:Events for Digitalsilverimaging
REFRESH-INTERVAL;VALUE=DURATION:PT1H
X-Robots-Tag:noindex
X-PUBLISHED-TTL:PT1H
BEGIN:VTIMEZONE
TZID:America/New_York
BEGIN:DAYLIGHT
TZOFFSETFROM:-0500
TZOFFSETTO:-0400
TZNAME:EDT
DTSTART:20220313T070000
END:DAYLIGHT
BEGIN:STANDARD
TZOFFSETFROM:-0400
TZOFFSETTO:-0500
TZNAME:EST
DTSTART:20221106T060000
END:STANDARD
BEGIN:DAYLIGHT
TZOFFSETFROM:-0500
TZOFFSETTO:-0400
TZNAME:EDT
DTSTART:20230312T070000
END:DAYLIGHT
BEGIN:STANDARD
TZOFFSETFROM:-0400
TZOFFSETTO:-0500
TZNAME:EST
DTSTART:20231105T060000
END:STANDARD
BEGIN:DAYLIGHT
TZOFFSETFROM:-0500
TZOFFSETTO:-0400
TZNAME:EDT
DTSTART:20240310T070000
END:DAYLIGHT
BEGIN:STANDARD
TZOFFSETFROM:-0400
TZOFFSETTO:-0500
TZNAME:EST
DTSTART:20241103T060000
END:STANDARD
END:VTIMEZONE
BEGIN:VEVENT
DTSTART;TZID=America/New_York:20230919T140000
DTEND;TZID=America/New_York:20230919T150000
DTSTAMP:20260421T154530
CREATED:20230913T203147Z
LAST-MODIFIED:20230913T203827Z
UID:11181-1695132000-1695135600@digitalsilverimaging.com
SUMMARY:Free Webinar with Nikon Ambassador Mike Mezeul II
DESCRIPTION:Taking your Photos to the Next Level\nTuesday September 19\, 2:00 PM EDT\nAdventure photographer\, journalist\, and DSI Print Ambassador\, and Nikon Ambassador\, Mike Mezeull II\, is our special guest for this free webinar. Mike will discuss how he captures the drama and wonder of volcanic eruptions\, tornados\, lightning storms\, and the simple calm of a seaside village. After a presentation of his work\, Mike will talk about his approach to landscape\, the importance of printing your work\, and his workshops. His 50 minute presentation will be followed by an open question and answer session with attendees. Mike is an excellent teacher and communicator making this webinar one that you just can’t miss. \n\n\n\nRegister Now\n\n\n\n  \n \n\nAll images ©2023 Mike Mezeul II Photography
URL:https://digitalsilverimaging.com/dsi-event/free-webinar-with-nikon-ambassador-mike-mezeul-ii/
CATEGORIES:Webinar
ATTACH;FMTTYPE=image/jpeg:https://digitalsilverimaging.com/wp-content/uploads/2023/09/Mezeul2-social.jpg
END:VEVENT
END:VCALENDAR